BEGIN:VCALENDAR
VERSION:2.0
PRODID:-//Soka Elements - ECPv6.15.17.1//NONSGML v1.0//EN
CALSCALE:GREGORIAN
METHOD:PUBLISH
X-WR-CALNAME:Soka Elements
X-ORIGINAL-URL:https://soka.mangomediaviweb.com
X-WR-CALDESC:Events for Soka Elements
REFRESH-INTERVAL;VALUE=DURATION:PT1H
X-Robots-Tag:noindex
X-PUBLISHED-TTL:PT1H
BEGIN:VTIMEZONE
TZID:UTC
BEGIN:STANDARD
TZOFFSETFROM:+0000
TZOFFSETTO:+0000
TZNAME:UTC
DTSTART:20250101T000000
END:STANDARD
END:VTIMEZONE
BEGIN:VEVENT
DTSTART;TZID=UTC:20260430T010000
DTEND;TZID=UTC:20260430T110000
DTSTAMP:20260420T094636
CREATED:20251030T150113Z
LAST-MODIFIED:20251030T150113Z
UID:8424-1777510800-1777546800@soka.mangomediaviweb.com
SUMMARY:Echoes of Egypt
DESCRIPTION:
URL:https://soka.mangomediaviweb.com/event/echoes-of-egypt/
CATEGORIES:Muse
ATTACH;FMTTYPE=image/jpeg:https://soka.mangomediaviweb.com/wp-content/uploads/2025/10/eoe.jpg
END:VEVENT
END:VCALENDAR